BEGIN:VCALENDAR
VERSION:2.0
PRODID:-//The Flying Goose - ECPv6.0.10//NONSGML v1.0//EN
CALSCALE:GREGORIAN
METHOD:PUBLISH
X-WR-CALNAME:The Flying Goose
X-ORIGINAL-URL:https://flying-goose.org
X-WR-CALDESC:Events for The Flying Goose
REFRESH-INTERVAL;VALUE=DURATION:PT1H
X-Robots-Tag:noindex
X-PUBLISHED-TTL:PT1H
BEGIN:VTIMEZONE
TZID:Europe/London
BEGIN:DAYLIGHT
TZOFFSETFROM:+0000
TZOFFSETTO:+0100
TZNAME:BST
DTSTART:20230326T010000
END:DAYLIGHT
BEGIN:STANDARD
TZOFFSETFROM:+0100
TZOFFSETTO:+0000
TZNAME:GMT
DTSTART:20231029T010000
END:STANDARD
END:VTIMEZONE
BEGIN:VEVENT
DTSTART;TZID=Europe/London:20231111T110000
DTEND;TZID=Europe/London:20231111T160000
DTSTAMP:20260420T031151
CREATED:20231009T100643Z
LAST-MODIFIED:20231009T100813Z
UID:10000063-1699700400-1699718400@flying-goose.org
SUMMARY:Wolvercote Craft Fair
DESCRIPTION:This year will be the biggest ever Wolvercote Craft Fair\, as the school is taken over by 50 stalls of beautiful handmade gifts and goods from local makers\, including silver jewellery\, wood-turned kitchenware\, soaps and bath bombs\, children’s aprons\, jams and chutneys\, art and advent calendars\, knitted and crocheted gifts and antiques and vintage items. There will be refreshments\, music and kids craft activities going on throughout the day\, and the chance to take a look at the school’s newly refurbished library. All proceeds from the fair go to support the school PTA\, providing equipment and resources for the children. \nEntry: £1
URL:https://flying-goose.org/event/wolvercote-craft-fair/
LOCATION:Wolvercote Primary School\, 9 First Turn\, Wolvercote\, Oxford\, Oxfordshire\, OX2 8AQ\, United Kingdom
ATTACH;FMTTYPE=image/png:https://flying-goose.org/wp-content/uploads/2023/01/294580869_539361561311848_1448806281167132796_n-e1696846086287.png
END:VEVENT
BEGIN:VEVENT
DTSTART;TZID=Europe/London:20231114T193000
DTEND;TZID=Europe/London:20231114T213000
DTSTAMP:20260420T031151
CREATED:20231009T101300Z
LAST-MODIFIED:20231030T115748Z
UID:10000064-1699990200-1699997400@flying-goose.org
SUMMARY:Ukulele Workshop - The WI Wolvercote
DESCRIPTION:Come along and have some fun learning  the basics of playing a Ukulele. Instruments will be provided. Refreshments available. Visitors are welcome. \nFor further details\, please contact Sue Pfunder on 07775506381 or su**********@gm***.com
URL:https://flying-goose.org/event/ukulele-workshop/
LOCATION:Wolvercote Village Hall\, 1 Wolvercote Green\, Oxford\, Oxfordshire\, OX2 8AB\, United Kingdom
ATTACH;FMTTYPE=image/jpeg:https://flying-goose.org/wp-content/uploads/2023/10/pexels-porapak-apichodilok-346709-scaled.jpg
END:VEVENT
END:VCALENDAR