BEGIN:VCALENDAR
VERSION:2.0
PRODID:-//The Flying Goose - ECPv6.0.10//NONSGML v1.0//EN
CALSCALE:GREGORIAN
METHOD:PUBLISH
X-WR-CALNAME:The Flying Goose
X-ORIGINAL-URL:https://flying-goose.org
X-WR-CALDESC:Events for The Flying Goose
REFRESH-INTERVAL;VALUE=DURATION:PT1H
X-Robots-Tag:noindex
X-PUBLISHED-TTL:PT1H
BEGIN:VTIMEZONE
TZID:Europe/London
BEGIN:DAYLIGHT
TZOFFSETFROM:+0000
TZOFFSETTO:+0100
TZNAME:BST
DTSTART:20230326T010000
END:DAYLIGHT
BEGIN:STANDARD
TZOFFSETFROM:+0100
TZOFFSETTO:+0000
TZNAME:GMT
DTSTART:20231029T010000
END:STANDARD
BEGIN:DAYLIGHT
TZOFFSETFROM:+0000
TZOFFSETTO:+0100
TZNAME:BST
DTSTART:20240331T010000
END:DAYLIGHT
BEGIN:STANDARD
TZOFFSETFROM:+0100
TZOFFSETTO:+0000
TZNAME:GMT
DTSTART:20241027T010000
END:STANDARD
END:VTIMEZONE
BEGIN:VEVENT
DTSTART;TZID=Europe/London:20231212T193000
DTEND;TZID=Europe/London:20231212T203000
DTSTAMP:20260420T045922
CREATED:20231023T101950Z
LAST-MODIFIED:20231023T101950Z
UID:10000067-1702409400-1702413000@flying-goose.org
SUMMARY:Do you hear what I hear?
DESCRIPTION:A simple service offering a place of quiet and rest this Advent.
URL:https://flying-goose.org/event/do-you-hear-what-i-hear/2023-12-12/
LOCATION:St Peter’s Church\, First Turn\, Wolvercote\, Oxford\, Oxfordshire\, OX2 8AQ\, United Kingdom
ATTACH;FMTTYPE=image/jpeg:https://flying-goose.org/wp-content/uploads/2023/10/pexels-anugrah-lohiya-667500.jpg
ORGANIZER;CN="St%20Peter%27s%20Church":MAILTO:officeatstpeters@gmail.com
END:VEVENT
BEGIN:VEVENT
DTSTART;TZID=Europe/London:20231212T193000
DTEND;TZID=Europe/London:20231212T210000
DTSTAMP:20260420T045922
CREATED:20231009T094756Z
LAST-MODIFIED:20231030T115821Z
UID:10000058-1702409400-1702414800@flying-goose.org
SUMMARY:A talk on ‘The History of the Pantomime’ - The WI Wolvercote
DESCRIPTION:Also making Christmas decorations\, and having seasonal snacks. Visitors welcome. \nFor further details\, please contact Sue Pfunder on 07775506381 or su**********@gm***.com
URL:https://flying-goose.org/event/a-talk-on-the-history-of-the-pantomime/
LOCATION:Wolvercote Village Hall\, 1 Wolvercote Green\, Oxford\, Oxfordshire\, OX2 8AB\, United Kingdom
ATTACH;FMTTYPE=image/jpeg:https://flying-goose.org/wp-content/uploads/2023/10/Pantomime_Performance_-_panoramio.jpg
END:VEVENT
BEGIN:VEVENT
DTSTART;TZID=Europe/London:20231218T184500
DTEND;TZID=Europe/London:20231218T200000
DTSTAMP:20260420T045922
CREATED:20231023T101448Z
LAST-MODIFIED:20231023T101448Z
UID:10000065-1702925100-1702929600@flying-goose.org
SUMMARY:Commoners' Carols
DESCRIPTION:Come along and sing traditional carols!
URL:https://flying-goose.org/event/commoners-carols/
LOCATION:Baptist Church Hall\, 131 Godstow Road\, Wolvercote\, Oxford\, Oxfordshire\, OX2 8PG
ATTACH;FMTTYPE=image/png:https://flying-goose.org/wp-content/uploads/2023/03/wolvercotecommoners.png
END:VEVENT
BEGIN:VEVENT
DTSTART;TZID=Europe/London:20231219T193000
DTEND;TZID=Europe/London:20231219T203000
DTSTAMP:20260420T045922
CREATED:20231023T101950Z
LAST-MODIFIED:20231023T101950Z
UID:10000068-1703014200-1703017800@flying-goose.org
SUMMARY:Do you hear what I hear?
DESCRIPTION:A simple service offering a place of quiet and rest this Advent.
URL:https://flying-goose.org/event/do-you-hear-what-i-hear/2023-12-19/
LOCATION:St Peter’s Church\, First Turn\, Wolvercote\, Oxford\, Oxfordshire\, OX2 8AQ\, United Kingdom
ATTACH;FMTTYPE=image/jpeg:https://flying-goose.org/wp-content/uploads/2023/10/pexels-anugrah-lohiya-667500.jpg
ORGANIZER;CN="St%20Peter%27s%20Church":MAILTO:officeatstpeters@gmail.com
END:VEVENT
BEGIN:VEVENT
DTSTART;TZID=Europe/London:20240109T193000
DTEND;TZID=Europe/London:20240109T213000
DTSTAMP:20260420T045922
CREATED:20231009T095036Z
LAST-MODIFIED:20231030T115832Z
UID:10000059-1704828600-1704835800@flying-goose.org
SUMMARY:A demonstration of chocolate making by Shelly Van Ross - The WI Wolvercote
DESCRIPTION:Including tasting and samples to take home.\nVisitors welcome. \nFor further details\, please contact Sue Pfunder on 07775506381 or su**********@gm***.com
URL:https://flying-goose.org/event/a-demonstration-of-chocolate-making-by-shelly-van-ross/
LOCATION:Wolvercote Village Hall\, 1 Wolvercote Green\, Oxford\, Oxfordshire\, OX2 8AB\, United Kingdom
ATTACH;FMTTYPE=image/jpeg:https://flying-goose.org/wp-content/uploads/2023/10/pexels-vie-studio-6167329-scaled.jpg
END:VEVENT
BEGIN:VEVENT
DTSTART;TZID=Europe/London:20240213T193000
DTEND;TZID=Europe/London:20240213T213000
DTSTAMP:20260420T045922
CREATED:20231009T095352Z
LAST-MODIFIED:20231030T115842Z
UID:10000060-1707852600-1707859800@flying-goose.org
SUMMARY:A talk on ‘The Forensic Experience’ - The WI Wolvercote
DESCRIPTION:A chance to hear about the uses of Forensic science – how do they do it and what advances are being made.\nVisitors welcome. \nFor further details\, please contact Sue Pfunder on 07775506381 or su**********@gm***.com
URL:https://flying-goose.org/event/a-talk-on-the-forensic-experience/
LOCATION:Wolvercote Village Hall\, 1 Wolvercote Green\, Oxford\, Oxfordshire\, OX2 8AB\, United Kingdom
ATTACH;FMTTYPE=image/jpeg:https://flying-goose.org/wp-content/uploads/2023/10/pexels-cottonbro-studio-10481324-scaled.jpg
END:VEVENT
BEGIN:VEVENT
DTSTART;TZID=Europe/London:20240221T193000
DTEND;TZID=Europe/London:20240221T213000
DTSTAMP:20260420T045922
CREATED:20231009T095758Z
LAST-MODIFIED:20231030T115850Z
UID:10000061-1708543800-1708551000@flying-goose.org
SUMMARY:Annual Village Quiz - The WI Wolvercote
DESCRIPTION:Details to be announced. Watch out for posters and get ready to enter your team. \nFor further details\, please contact Sue Pfunder on 07775506381 or su**********@gm***.com
URL:https://flying-goose.org/event/annual-village-quiz/
LOCATION:Wolvercote Village Hall\, 1 Wolvercote Green\, Oxford\, Oxfordshire\, OX2 8AB\, United Kingdom
ATTACH;FMTTYPE=image/png:https://flying-goose.org/wp-content/uploads/2023/10/quiz.png
END:VEVENT
BEGIN:VEVENT
DTSTART;TZID=Europe/London:20240312T193000
DTEND;TZID=Europe/London:20240312T213000
DTSTAMP:20260420T045922
CREATED:20231009T095919Z
LAST-MODIFIED:20231030T115858Z
UID:10000062-1710271800-1710279000@flying-goose.org
SUMMARY:Annual General Meeting - The WI Wolvercote
DESCRIPTION:Visitors welcome. \nFor further details\, please contact Sue Pfunder on 07775506381 or su**********@gm***.com
URL:https://flying-goose.org/event/annual-general-meeting/
LOCATION:Wolvercote Village Hall\, 1 Wolvercote Green\, Oxford\, Oxfordshire\, OX2 8AB\, United Kingdom
END:VEVENT
BEGIN:VEVENT
DTSTART;TZID=Europe/London:20240611T193000
DTEND;TZID=Europe/London:20240611T203000
DTSTAMP:20260420T045922
CREATED:20240522T123228Z
LAST-MODIFIED:20240522T123228Z
UID:10000069-1718134200-1718137800@flying-goose.org
SUMMARY:Lizzy Rowe will talk about ‘Colour in Art’
DESCRIPTION:Lizzy gives entertaining and informative talks about art and its history. As well as being an artist she teaches in schools and gives lectures to the Arts Society about different aspects of art.  \nVisitors welcome to attend.
URL:https://flying-goose.org/event/lizzy-rowe-will-talk-about-colour-in-art/
LOCATION:Wolvercote Village Hall\, 1 Wolvercote Green\, Oxford\, Oxfordshire\, OX2 8AB\, United Kingdom
ATTACH;FMTTYPE=image/jpeg:https://flying-goose.org/wp-content/uploads/2024/05/winew.jpg.gallery.jpg
END:VEVENT
BEGIN:VEVENT
DTSTART;TZID=Europe/London:20240709T193000
DTEND;TZID=Europe/London:20240709T213000
DTSTAMP:20260420T045922
CREATED:20240522T123353Z
LAST-MODIFIED:20240522T123353Z
UID:10000070-1720553400-1720560600@flying-goose.org
SUMMARY:Susan Ronald will talk about ‘Condé Nast - What Women Really Wanted’
DESCRIPTION:Susan has written books on various topical and non fiction/historical subjects. She has appeared at festivals and on TV.   \nVisitors welcome to attend.
URL:https://flying-goose.org/event/susan-ronald-will-talk-about-conde-nast-what-women-really-wanted/
LOCATION:Wolvercote Village Hall\, 1 Wolvercote Green\, Oxford\, Oxfordshire\, OX2 8AB\, United Kingdom
END:VEVENT
END:VCALENDAR