BEGIN:VCALENDAR
VERSION:2.0
PRODID:-//The Flying Goose - ECPv6.0.10//NONSGML v1.0//EN
CALSCALE:GREGORIAN
METHOD:PUBLISH
X-WR-CALNAME:The Flying Goose
X-ORIGINAL-URL:https://flying-goose.org
X-WR-CALDESC:Events for The Flying Goose
REFRESH-INTERVAL;VALUE=DURATION:PT1H
X-Robots-Tag:noindex
X-PUBLISHED-TTL:PT1H
BEGIN:VTIMEZONE
TZID:Europe/London
BEGIN:DAYLIGHT
TZOFFSETFROM:+0000
TZOFFSETTO:+0100
TZNAME:BST
DTSTART:20230326T010000
END:DAYLIGHT
BEGIN:STANDARD
TZOFFSETFROM:+0100
TZOFFSETTO:+0000
TZNAME:GMT
DTSTART:20231029T010000
END:STANDARD
END:VTIMEZONE
BEGIN:VEVENT
DTSTART;TZID=Europe/London:20230720T100000
DTEND;TZID=Europe/London:20230720T113000
DTSTAMP:20260424T214359
CREATED:20230313T153427Z
LAST-MODIFIED:20230313T153623Z
UID:10000040-1689847200-1689852600@flying-goose.org
SUMMARY:Dandelions
DESCRIPTION:Baby and Toddler Group runs on Thursdays 10 – 11.30am in Wolvercote Baptist Church Hall during term-time.  Meet up for socialising\, play and a cuppa. \nPhone Chris Hayle on 01865 516694 for more details.
URL:https://flying-goose.org/event/dandelions/2023-07-20/
LOCATION:Oxfordshire
ATTACH;FMTTYPE=image/jpeg:https://flying-goose.org/wp-content/uploads/2023/03/pexels-tatiana-syrikova-3933250-scaled.jpg
END:VEVENT
END:VCALENDAR